BEGIN:VCALENDAR
VERSION:2.0
PRODID:-//wp-events-plugin.com//7.2.3.1//EN
TZID:Europe/Zurich
X-WR-TIMEZONE:Europe/Zurich
BEGIN:VEVENT
UID:54@brainbreak.ch
DTSTART;TZID=Europe/Zurich:20240222T183000
DTEND;TZID=Europe/Zurich:20240222T200000
DTSTAMP:20240215T144705Z
URL:https://www.brainbreak.ch/events/achtsamkeits-meditationsabend-in-morg
 es-3/
SUMMARY:Achtsamkeits-Meditationsabend in Morges
DESCRIPTION:Mindfulness Abend mit begleiteter Meditation (stehend\, sitzend
 \, liegend). Für Anfänger und Fortgeschrittene.
ATTACH;FMTTYPE=image/jpeg:https://www.brainbreak.ch/wp-content/uploads/202
 4/01/Mindfulness-unsplash1-scaled.jpg
CATEGORIES:Adults,Meditation
LOCATION:Centre SB Kiné\,  Promenade de l'Eglantine 10\, Morges\, 1110\, S
 witzerland
GEO:46.513007;6.48628
X-APPLE-STRUCTURED-LOCATION;VALUE=URI;X-ADDRESS= Promenade de l'Eglantine 1
 0\, Morges\, 1110\, Switzerland;X-APPLE-RADIUS=100;X-TITLE=Centre SB Kiné
 :geo:46.513007,6.48628
END:VEVENT
BEGIN:VTIMEZONE
TZID:Europe/Zurich
X-LIC-LOCATION:Europe/Zurich
BEGIN:STANDARD
DTSTART:20231029T020000
TZOFFSETFROM:+0200
TZOFFSETTO:+0100
TZNAME:CET
END:STANDARD
END:VTIMEZONE
END:VCALENDAR