BEGIN:VCALENDAR
VERSION:2.0
PRODID:-//wp-events-plugin.com//7.2.3.1//EN
TZID:Europe/Zurich
X-WR-TIMEZONE:Europe/Zurich
BEGIN:VEVENT
UID:10@brainbreak.ch
DTSTART;TZID=Europe/Berlin:20170301T153000
DTEND;TZID=Europe/Berlin:20170301T173000
DTSTAMP:20170106T192551Z
URL:https://www.brainbreak.ch/events/atelier-decouverte-mouvement-6-12-ans
 /
SUMMARY:Atelier Découverte Mouvement (6-12 ans)
DESCRIPTION:Venez nous rejoindre pour un premier atelier découverte en col
 laboration avec "Les Arts en Scène" et Valérie Rattaz\, Animatrice en At
 eliers d'expression et de créativité.\nAvec ou sans expérience "Petite 
 Grenouille" ces ateliers une fois par mois pour enfants de 6-12 ans ont po
 ur but:\n\n 	d'assurer un suivi pour les enfants qui connaissent la petite
  grenouille\n 	faire découvrir quelque chose de nouveau et de créatif à
  ceux et celles qui ne connaissent pas encore cette méthode\n
CATEGORIES:Workshops
LOCATION:Les Arts en Scene\, Route de Morges 2\, Lully sur Morges\, 1132\, 
 Switzerland
GEO:46.505283;6.465415
X-APPLE-STRUCTURED-LOCATION;VALUE=URI;X-ADDRESS=Route de Morges 2\, Lully s
 ur Morges\, 1132\, Switzerland;X-APPLE-RADIUS=100;X-TITLE=Les Arts en Scen
 e:geo:46.505283,6.465415
END:VEVENT
BEGIN:VTIMEZONE
TZID:Europe/Berlin
X-LIC-LOCATION:Europe/Berlin
BEGIN:STANDARD
DTSTART:20161030T020000
TZOFFSETFROM:+0200
TZOFFSETTO:+0100
TZNAME:CET
END:STANDARD
END:VTIMEZONE
END:VCALENDAR