BEGIN:VCALENDAR
VERSION:2.0
PRODID:-//wp-events-plugin.com//7.2.3.1//EN
TZID:Europe/Zurich
X-WR-TIMEZONE:Europe/Zurich
BEGIN:VEVENT
UID:11@brainbreak.ch
DTSTART;TZID=Europe/Berlin:20170126T181500
DTEND;TZID=Europe/Berlin:20170504T200000
DTSTAMP:20170106T192236Z
URL:https://www.brainbreak.ch/events/cours-de-pleine-conscience-adultes/
SUMMARY:Cours de Pleine Conscience Adultes
DESCRIPTION:Venez nous rejoindre pour un cours adultes de Pleine Conscience
  selon la méthode de Jon Kabat-Zinn\nUn cours comprend:\n\n 	Une introduc
 tion/discussion de maximum une heure avant de commencer le cours afin que 
 vous sachiez ce que l'on va faire et que je puisse apprendre à vous conna
 ître un peu plus (par skype ou téléphone) et aussi pour pouvoir évalue
 r si le cours pourrait vous être bénéfique dans votre situation de vie 
 actuelle. C'est seulement après cet entretien qu'une confirmation de part
 icipation définitive pourra être établie.\n 	8 semaines de cours d’en
 viron 1h45 par session (parfois peut-être un peu plus\, selon les semaine
 s)\n 	Le matériel de cours ainsi que des enregistrements\, mis à disposi
 tion après chaque session afin que vous puissiez pratiquer chez vous (la 
 pratique journalière d'au moins 25 minutes fait partie intégrante du pro
 cessus)\n 	Une retraite d'une journée de 6h en silence (déjeuner non com
 pris)\n\nLes dates des cours sont (retraite vers la fin à convenir)\n\n 	
 26 janvier 2017\n 	9 février 2017\n 	16 février 2017\n 	9\, 23 mars 2017
 \n 	6\, 27 avril 2017\n 	4 mai 2017\n\n&nbsp\;
LOCATION:Lully sur Morges\, Route de Morges 4\, Lully sur Morges\, 1132\, S
 witzerland
GEO:46.505238;6.465546
X-APPLE-STRUCTURED-LOCATION;VALUE=URI;X-ADDRESS=Route de Morges 4\, Lully s
 ur Morges\, 1132\, Switzerland;X-APPLE-RADIUS=100;X-TITLE=Lully sur Morges
 :geo:46.505238,6.465546
END:VEVENT
BEGIN:VTIMEZONE
TZID:Europe/Berlin
X-LIC-LOCATION:Europe/Berlin
BEGIN:STANDARD
DTSTART:20161030T020000
TZOFFSETFROM:+0200
TZOFFSETTO:+0100
TZNAME:CET
END:STANDARD
BEGIN:DAYLIGHT
DTSTART:20170326T030000
TZOFFSETFROM:+0100
TZOFFSETTO:+0200
TZNAME:CEST
END:DAYLIGHT
END:VTIMEZONE
END:VCALENDAR