BEGIN:VCALENDAR
VERSION:2.0
PRODID:-//wp-events-plugin.com//7.2.3.1//EN
TZID:Europe/Zurich
X-WR-TIMEZONE:Europe/Zurich
BEGIN:VEVENT
UID:17@brainbreak.ch
DTSTART;TZID=Europe/Berlin:20170830T170000
DTEND;TZID=Europe/Berlin:20171213T175000
DTSTAMP:20170608T184717Z
URL:https://www.brainbreak.ch/events/cours-enfants-8-10-11-3/
SUMMARY:Cours Enfants 8-10 (11)
DESCRIPTION:Venez nous rejoindre pour un nouveau cours à Lully! Pour la pr
 emière fois\, nous avons pris la décision de donner le cours sur tout un
  trimestre\, soit 14 semaines (12 cours\, une intro\, une session de discu
 ssion avec parents).\nUn cours comprend:\n\n 	Une séance avec les parents
  pendant la première session et avant le début des cours afin de pouvoir
  expliquer le déroulement\, rencontrer les enfants et répondre aux quest
 ions. Cette session est purement informative et pas une session réelle\, 
 afin de vous permettre de voir si le cours est bien ce que vous recherchez
  pour votre enfant (le 30 août 2017 de 17-17h50)\n 	12 semaines de cours\
 , 50 minutes par semaine (en groupe\, de 17-17h50 les mercredis à partir 
 du 6 septembre 2017)\n 	Chaque semaine un mail (lettre) pour les parents q
 ui comprend une petite explication de ce qui a été fait ainsi que des ex
 ercices à pratiquer à la maison avec l’enfant et des enregistrements.\
 n 	Une dernière séance avec parents et enfants pour pouvoir discuter du 
 cours\, répondre aux questions etc.\n
CATEGORIES:Mindfulness children 8-11
LOCATION:Les Arts en Scène\, Route de Morges 4\, Lully sur Morges\, 1132\,
  Switzerland
GEO:46.505238;6.465546
X-APPLE-STRUCTURED-LOCATION;VALUE=URI;X-ADDRESS=Route de Morges 4\, Lully s
 ur Morges\, 1132\, Switzerland;X-APPLE-RADIUS=100;X-TITLE=Les Arts en Scè
 ne:geo:46.505238,6.465546
END:VEVENT
BEGIN:VTIMEZONE
TZID:Europe/Berlin
X-LIC-LOCATION:Europe/Berlin
BEGIN:DAYLIGHT
DTSTART:20170326T030000
TZOFFSETFROM:+0100
TZOFFSETTO:+0200
TZNAME:CEST
END:DAYLIGHT
BEGIN:STANDARD
DTSTART:20171029T020000
TZOFFSETFROM:+0200
TZOFFSETTO:+0100
TZNAME:CET
END:STANDARD
END:VTIMEZONE
END:VCALENDAR