BEGIN:VCALENDAR
VERSION:2.0
PRODID:-//wp-events-plugin.com//7.2.3.1//EN
TZID:Europe/Zurich
X-WR-TIMEZONE:Europe/Zurich
BEGIN:VEVENT
UID:8@brainbreak.ch
DTSTART;TZID=Europe/Berlin:20170126T170000
DTEND;TZID=Europe/Berlin:20170330T175000
DTSTAMP:20170129T153837Z
URL:https://www.brainbreak.ch/events/cours-enfants-8-10-11/
SUMMARY:Cours Enfants 8-10 (11)
DESCRIPTION:Venez nous rejoindre pour un nouveau cours à Lully! Le se dér
 oule pendant 9 semaines et comprend:\n\n 	Une séance avec les parents pen
 dant la première session et avant le début des cours afin de pouvoir exp
 liquer le déroulement\, rencontrer les enfants et répondre aux questions
 . Cette session est purement informative et un essai afin de vous permettr
 e de voir si le cours est bien ce que vous recherchez pour votre enfant (l
 e 26 janvier 2017 de 17-17h50)\n\n\n 	8 semaines de cours\, 50 minutes par
  semaine (en groupe\, de 17-17h50 les jeudis à partir du 2 février 2017)
 \n\n\n 	Chaque semaine un mail (lettre) pour les parents qui comprend une 
 petite explication de ce qui a été fait ainsi que des exercices à prati
 quer à la maison avec l’enfant et des enregistrements.\n
CATEGORIES:Mindfulness children 8-11
LOCATION:Lully sur Morges\, Route de Morges 4\, Lully sur Morges\, 1132\, S
 witzerland
GEO:46.505238;6.465546
X-APPLE-STRUCTURED-LOCATION;VALUE=URI;X-ADDRESS=Route de Morges 4\, Lully s
 ur Morges\, 1132\, Switzerland;X-APPLE-RADIUS=100;X-TITLE=Lully sur Morges
 :geo:46.505238,6.465546
END:VEVENT
BEGIN:VTIMEZONE
TZID:Europe/Berlin
X-LIC-LOCATION:Europe/Berlin
BEGIN:STANDARD
DTSTART:20161030T020000
TZOFFSETFROM:+0200
TZOFFSETTO:+0100
TZNAME:CET
END:STANDARD
BEGIN:DAYLIGHT
DTSTART:20170326T030000
TZOFFSETFROM:+0100
TZOFFSETTO:+0200
TZNAME:CEST
END:DAYLIGHT
END:VTIMEZONE
END:VCALENDAR