BEGIN:VCALENDAR
VERSION:2.0
PRODID:-//wp-events-plugin.com//7.2.3.1//EN
TZID:Europe/Zurich
X-WR-TIMEZONE:Europe/Zurich
BEGIN:VEVENT
UID:3@brainbreak.ch
DTSTART;TZID=Europe/Berlin:20160702T100000
DTEND;TZID=Europe/Berlin:20160702T160000
DTSTAMP:20160604T163853Z
URL:https://www.brainbreak.ch/events/les-emotions-ca-se-ressent/
SUMMARY:Les Émotions ça se ressent!
DESCRIPTION:Les enfants de 6-10 ans apprendront à connaître\, apprécier 
 et commencer à gérer leurs émotions\nLes Émotions:\n\n\n 	Sont des ré
 actions à ce que nous pensons\, réalisons\, vivons ou sentons\n 	Nous co
 upent parfois le souffle\n 	Sont soit si désagréables qu’on voudrait s
 ’en débarrasser ou\n 	Si agréables qu’on voudrait les retenir\n\nMai
 s nous ne sommes pas obligés de vouloir les changer\, cacher\, retenir ou
  de vouloir nous y accrocher !\n\nComment?  \n\nEn utilisant les outils 
 de la pleine conscience et en exprimant leur ressenti à travers le théâ
 tre\, la création et l'utilisation de marionnettes.\n\nQui?       
   Enfants de 6-10 ans\n\nQuoi?      Atelier basé sur les exercices 
 de pleine conscience d’Eline Snel (AMT)\, « L’attention ça marche 
 » ainsi que sur les techniques du théâtre et des marionnettes\n\nDate? 
           Le samedi 2 juillet\n\nHoraire?  10h00 à 16h00 (pique
 -nique à apporter)\n\nRabais de 10% pour la fratrie.\n\nCet atelier vous 
 est proposé en collaboration avec Valerie Rattaz!
CATEGORIES:Workshops
LOCATION:Les Arts en Scene\, Route de Morges 2\, Lully sur Morges\, 1132\, 
 Switzerland
GEO:46.505283;6.465415
X-APPLE-STRUCTURED-LOCATION;VALUE=URI;X-ADDRESS=Route de Morges 2\, Lully s
 ur Morges\, 1132\, Switzerland;X-APPLE-RADIUS=100;X-TITLE=Les Arts en Scen
 e:geo:46.505283,6.465415
END:VEVENT
BEGIN:VTIMEZONE
TZID:Europe/Berlin
X-LIC-LOCATION:Europe/Berlin
BEGIN:DAYLIGHT
DTSTART:20160327T030000
TZOFFSETFROM:+0100
TZOFFSETTO:+0200
TZNAME:CEST
END:DAYLIGHT
END:VTIMEZONE
END:VCALENDAR