BEGIN:VCALENDAR
VERSION:2.0
PRODID:-//wp-events-plugin.com//7.2.3.1//EN
TZID:Europe/Zurich
X-WR-TIMEZONE:Europe/Zurich
BEGIN:VEVENT
UID:76@brainbreak.ch
DTSTART;TZID=Europe/Zurich:20241010T183000
DTEND;TZID=Europe/Zurich:20241010T200000
DTSTAMP:20240923T125820Z
URL:https://www.brainbreak.ch/events/meditation-evening-in-morges-8/
SUMMARY:Meditation evening in Morges
DESCRIPTION:Mindfulness evening with accompanied meditation (standing\, sit
 ting\, lying). For beginners and advanced users.
ATTACH;FMTTYPE=image/jpeg:https://www.brainbreak.ch/wp-content/uploads/202
 4/01/Mindfulness-unsplash1-scaled.jpg
CATEGORIES:Adult classes,Adults,Meditation
LOCATION:Centre SB Kiné\,  Promenade de l'Eglantine 10\, Morges\, 1110\, S
 witzerland
GEO:46.513007;6.48628
X-APPLE-STRUCTURED-LOCATION;VALUE=URI;X-ADDRESS= Promenade de l'Eglantine 1
 0\, Morges\, 1110\, Switzerland;X-APPLE-RADIUS=100;X-TITLE=Centre SB Kiné
 :geo:46.513007,6.48628
END:VEVENT
BEGIN:VTIMEZONE
TZID:Europe/Zurich
X-LIC-LOCATION:Europe/Zurich
BEGIN:DAYLIGHT
DTSTART:20240331T030000
TZOFFSETFROM:+0100
TZOFFSETTO:+0200
TZNAME:CEST
END:DAYLIGHT
END:VTIMEZONE
END:VCALENDAR