BEGIN:VCALENDAR
VERSION:2.0
PRODID:-//wp-events-plugin.com//7.2.3.1//EN
TZID:Europe/Zurich
X-WR-TIMEZONE:Europe/Zurich
BEGIN:VEVENT
UID:20@brainbreak.ch
DTSTART;TZID=Europe/Berlin:20180302T093000
DTEND;TZID=Europe/Berlin:20180302T120000
DTSTAMP:20180206T091645Z
URL:https://www.brainbreak.ch/events/nouveau-cours-de-pleine-conscience-ad
 ultes-lausanne/
SUMMARY:Nouveau Cours de Pleine Conscience Adultes - Lausanne
DESCRIPTION:Venez me rejoindre à Lausanne - Ecole Club Migros - pour un no
 uveau cours de Pleine Conscience Adultes qui débutera le vendredi 2 mars.
  Plus d'infos et inscriptions ici!\n
CATEGORIES:Adults
LOCATION:Ecole Club Migros\, Rue de Genève 35\, Lausanne\, 1003\, VD\, Swi
 tzerland
GEO:46.522263;6.626221
X-APPLE-STRUCTURED-LOCATION;VALUE=URI;X-ADDRESS=Rue de Genève 35\, Lausann
 e\, 1003\, VD\, Switzerland;X-APPLE-RADIUS=100;X-TITLE=Ecole Club Migros:g
 eo:46.522263,6.626221
END:VEVENT
BEGIN:VTIMEZONE
TZID:Europe/Berlin
X-LIC-LOCATION:Europe/Berlin
BEGIN:STANDARD
DTSTART:20171029T020000
TZOFFSETFROM:+0200
TZOFFSETTO:+0100
TZNAME:CET
END:STANDARD
END:VTIMEZONE
END:VCALENDAR