BEGIN:VCALENDAR
VERSION:2.0
PRODID:-//wp-events-plugin.com//7.2.3.1//EN
TZID:Europe/Zurich
X-WR-TIMEZONE:Europe/Zurich
BEGIN:VEVENT
UID:55@brainbreak.ch
DTSTART;TZID=Europe/Zurich:20240222T183000
DTEND;TZID=Europe/Zurich:20240222T200000
DTSTAMP:20240215T145000Z
URL:https://www.brainbreak.ch/events/soiree-meditation-a-morges-2/
SUMMARY:Soirée Méditation à Morges
DESCRIPTION:Prenez un peu de temps pour vous ! \nNos soirées de méditatio
 n en pleine conscience s’adressent aussi bien aux débutants qu’aux ap
 prenants avancés. \nToutes les 3 semaines dans le Quartier de l’Églant
 ine à Morges. \nMerci de réserver à l’avance car les places sont limi
 tées !
ATTACH;FMTTYPE=image/jpeg:https://www.brainbreak.ch/wp-content/uploads/202
 4/01/Mindfulness-unsplash1-scaled.jpg
CATEGORIES:Adults,Meditation
LOCATION:Centre SB Kiné\,  Promenade de l'Eglantine 10\, Morges\, 1110\, S
 witzerland
GEO:46.513007;6.48628
X-APPLE-STRUCTURED-LOCATION;VALUE=URI;X-ADDRESS= Promenade de l'Eglantine 1
 0\, Morges\, 1110\, Switzerland;X-APPLE-RADIUS=100;X-TITLE=Centre SB Kiné
 :geo:46.513007,6.48628
END:VEVENT
BEGIN:VTIMEZONE
TZID:Europe/Zurich
X-LIC-LOCATION:Europe/Zurich
BEGIN:STANDARD
DTSTART:20231029T020000
TZOFFSETFROM:+0200
TZOFFSETTO:+0100
TZNAME:CET
END:STANDARD
END:VTIMEZONE
END:VCALENDAR