BEGIN:VCALENDAR
VERSION:2.0
PRODID:-//wp-events-plugin.com//7.2.3.1//EN
TZID:Europe/Zurich
X-WR-TIMEZONE:Europe/Zurich
BEGIN:VEVENT
UID:68@brainbreak.ch
DTSTART;TZID=Europe/Zurich:20240912T063000
DTEND;TZID=Europe/Zurich:20240912T080000
DTSTAMP:20240908T095111Z
URL:https://www.brainbreak.ch/events/soiree-meditation-a-morges-7/
SUMMARY:Soirée Méditation à Morges
DESCRIPTION:Soirée pleine conscience avec méditation accompagnée (debout
 \, assis\, allongé). Pour les utilisateurs débutants et avancés.
ATTACH;FMTTYPE=image/jpeg:https://www.brainbreak.ch/wp-content/uploads/202
 4/01/Mindfulness-unsplash1-scaled.jpg
CATEGORIES:Adults,Meditation
LOCATION:Centre SB Kiné\,  Promenade de l'Eglantine 10\, Morges\, 1110\, S
 witzerland
GEO:46.513007;6.48628
X-APPLE-STRUCTURED-LOCATION;VALUE=URI;X-ADDRESS= Promenade de l'Eglantine 1
 0\, Morges\, 1110\, Switzerland;X-APPLE-RADIUS=100;X-TITLE=Centre SB Kiné
 :geo:46.513007,6.48628
END:VEVENT
BEGIN:VTIMEZONE
TZID:Europe/Zurich
X-LIC-LOCATION:Europe/Zurich
BEGIN:DAYLIGHT
DTSTART:20240331T030000
TZOFFSETFROM:+0100
TZOFFSETTO:+0200
TZNAME:CEST
END:DAYLIGHT
END:VTIMEZONE
END:VCALENDAR